BEGIN:VCALENDAR
VERSION:2.0
PRODID:-//Feilding Moa - ECPv4.9.10//NONSGML v1.0//EN
CALSCALE:GREGORIAN
METHOD:PUBLISH
X-WR-CALNAME:Feilding Moa
X-ORIGINAL-URL:https://feildingmoa.co.nz
X-WR-CALDESC:Events for Feilding Moa
BEGIN:VTIMEZONE
TZID:Pacific/Auckland
BEGIN:STANDARD
TZOFFSETFROM:+1300
TZOFFSETTO:+1200
TZNAME:NZST
DTSTART:20180331T140000
END:STANDARD
BEGIN:DAYLIGHT
TZOFFSETFROM:+1200
TZOFFSETTO:+1300
TZNAME:NZDT
DTSTART:20180929T140000
END:DAYLIGHT
END:VTIMEZONE
BEGIN:VEVENT
DTSTART;TZID=Pacific/Auckland:20180818T123000
DTEND;TZID=Pacific/Auckland:20180818T150000
DTSTAMP:20260422T131022
CREATED:20150514T102320Z
LAST-MODIFIED:20180806T093848Z
UID:2251-1534595400-1534604400@feildingmoa.co.nz
SUMMARY:AMW Road Champs\, Beaconsfield
DESCRIPTION:This week is the Athletics Manawatu Wanganui Road run/walk championships using our Beaconsfield Valley Rd out and back course from the Beaconsfield Hall.\nFull event info: 2018 AMW road champ details \nThe Course: An out and back course for all distances. Athletes are responsible for turning at the appropriate point for their event. The course is marked on the RIGHT side of the road (so if running on the left you will miss your turn!) Course Marks are as follows: 0.5km\, 1km\, 1.5km. 2.5km\, 3km\, 4km\, 5km\, 6km\, 7km\, 8km\, 9km \nPROGRAMME OF EVENTS\n11.30am Course marked and open to inspect\n12:45 pm Open Championship Walk 10km\n12:45pm Boys and Girls 8 & under 1km \n1:00pm Boys and Girls 10\, 12\, 14 years 3km \n1.30pm Youth Women (15-19) 5km\nYouth Men (15-17) 6km\nMasters Women 35+ 6km\nJunior Men (18\,19) 10km\nMasters Men 35+ 10km\nSenior Men & Women (20-34) 10km \n3:00pm Afternoon tea and results at the Beaconsfield Hall \nAll ages (except masters athletes) are as at 31st December 2018\nMasters Athletes: Your eligibility for 5-year age groups is per your age as of 18 August 2018 Results will be recorded in 5 year age groups e.g. W35-39\, W40-44\, W45-49 etc. \nRunning out of a grade: To compete in a grade different to your age group e.g. Master running as a Senior; make a request to the Race Referee prior to the start otherwise it is assumed you will run in your grade \nParking: There is ample parking at the venue\, but please park at right angles to the road (i.e angle park) to maximise the use \nSafety: There will be a first aid kit available at the Start/Finish. In the event of a serious injury on course athletes should render assistance and alert the nearest Marshall. The course is on a low volume country road with an approved Traffic management Plan in place. There are no road closures. Athletes must keep to the right side at all times and except when passing other athletes\, shall run/walk no more than two abreast. \n  \n  \n
URL:https://feildingmoa.co.nz/event/2018-amw-road/
LOCATION:Beaconsfield Memorial Hall\, 74 Beaconsfield Valley Rd\, Manawatu district\, 4779\, New Zealand
CATEGORIES:Club Event,Interclub Event
ATTACH;FMTTYPE=image/jpeg:https://feildingmoa.co.nz/wp-content/uploads/2015/05/AMW-logo-2.jpg
ORGANIZER;CN="Rob%20Dabb":MAILTO:feildingmoa@gmail.com
END:VEVENT
END:VCALENDAR