BEGIN:VCALENDAR
VERSION:2.0
PRODID:-//Feilding Moa - ECPv4.9.10//NONSGML v1.0//EN
CALSCALE:GREGORIAN
METHOD:PUBLISH
X-WR-CALNAME:Feilding Moa
X-ORIGINAL-URL:https://feildingmoa.co.nz
X-WR-CALDESC:Events for Feilding Moa
BEGIN:VTIMEZONE
TZID:Pacific/Auckland
BEGIN:STANDARD
TZOFFSETFROM:+1300
TZOFFSETTO:+1200
TZNAME:NZST
DTSTART:20220402T140000
END:STANDARD
BEGIN:DAYLIGHT
TZOFFSETFROM:+1200
TZOFFSETTO:+1300
TZNAME:NZDT
DTSTART:20220924T140000
END:DAYLIGHT
END:VTIMEZONE
BEGIN:VEVENT
DTSTART;TZID=Pacific/Auckland:20220320T130000
DTEND;TZID=Pacific/Auckland:20220320T143000
DTSTAMP:20260422T222812
CREATED:20220228T214135Z
LAST-MODIFIED:20220228T221339Z
UID:4728-1647781200-1647786600@feildingmoa.co.nz
SUMMARY:84th Annual General Meeting
DESCRIPTION:1:00pm on 20th March at our Timona Park clubrooms. \nAgenda and call for nominations to come shortly \n
URL:https://feildingmoa.co.nz/event/68th-annual-general-meeting/
LOCATION:Timona Park\, Simon St\, Feilding\, 4740\, New Zealand
CATEGORIES:Club Event
END:VEVENT
END:VCALENDAR