BEGIN:VCALENDAR
VERSION:2.0
PRODID:-//Feilding Moa - ECPv4.9.10//NONSGML v1.0//EN
CALSCALE:GREGORIAN
METHOD:PUBLISH
X-WR-CALNAME:Feilding Moa
X-ORIGINAL-URL:https://feildingmoa.co.nz
X-WR-CALDESC:Events for Feilding Moa
BEGIN:VTIMEZONE
TZID:Pacific/Auckland
BEGIN:STANDARD
TZOFFSETFROM:+1300
TZOFFSETTO:+1200
TZNAME:NZST
DTSTART:20230401T140000
END:STANDARD
BEGIN:DAYLIGHT
TZOFFSETFROM:+1200
TZOFFSETTO:+1300
TZNAME:NZDT
DTSTART:20230923T140000
END:DAYLIGHT
END:VTIMEZONE
BEGIN:VEVENT
DTSTART;TZID=Pacific/Auckland:20230228T183000
DTEND;TZID=Pacific/Auckland:20230228T200000
DTSTAMP:20260422T125923
CREATED:20230202T032334Z
LAST-MODIFIED:20230202T032334Z
UID:5051-1677609000-1677614400@feildingmoa.co.nz
SUMMARY:AMW track & field champs Week 3B
DESCRIPTION:Week 3B – Cooks Garden Wanganui \n6;45pm start \nJavelin \nLong hurdles: 300m\, 400m \n
URL:https://feildingmoa.co.nz/event/amw-track-field-champs-week-3b/
LOCATION:Cooks Garden\, Maria Place\, Wanganui\, Wanganui\, 4500\, New Zealand
CATEGORIES:Interclub Event
END:VEVENT
END:VCALENDAR