BEGIN:VCALENDAR
VERSION:2.0
PRODID:-//Feilding Moa - ECPv4.9.10//NONSGML v1.0//EN
CALSCALE:GREGORIAN
METHOD:PUBLISH
X-WR-CALNAME:Feilding Moa
X-ORIGINAL-URL:https://feildingmoa.co.nz
X-WR-CALDESC:Events for Feilding Moa
BEGIN:VTIMEZONE
TZID:Pacific/Auckland
BEGIN:STANDARD
TZOFFSETFROM:+1300
TZOFFSETTO:+1200
TZNAME:NZST
DTSTART:20230401T140000
END:STANDARD
BEGIN:DAYLIGHT
TZOFFSETFROM:+1200
TZOFFSETTO:+1300
TZNAME:NZDT
DTSTART:20230923T140000
END:DAYLIGHT
END:VTIMEZONE
BEGIN:VEVENT
DTSTART;TZID=Pacific/Auckland:20230214T180000
DTEND;TZID=Pacific/Auckland:20230214T193000
DTSTAMP:20260422T171529
CREATED:20230202T031509Z
LAST-MODIFIED:20230202T032008Z
UID:5042-1676397600-1676403000@feildingmoa.co.nz
SUMMARY:Athletic Manawatu Wanganui T&F Champs
DESCRIPTION:WEEK 1 Palmerston North\n5:45pm start as per usual for the PNAHC club night. Championship events will fit in and around the club night schedule \nFEILD event\nHigh jump\, triple jump\, shotput \nTRACK events\n100m\, 400m\, 1500m \nNo entry fee for athletes registered with a club within the region. Just turn up on the day and listen out for calls to the startline \nAge eligibility is 14 years and up (childrens champs are later in March) \n
URL:https://feildingmoa.co.nz/event/athletic-manawatu-wanganui-tf-champs/
LOCATION:Manawatu Community Athletic Track\, Athletic Track Access Drive\, Linton\, 4474\, New Zealand
CATEGORIES:Interclub Event
ATTACH;FMTTYPE=image/jpeg:https://feildingmoa.co.nz/wp-content/uploads/2023/02/cooks-classic-HJ-kerr.jpg
END:VEVENT
END:VCALENDAR