BEGIN:VCALENDAR
VERSION:2.0
PRODID:-//Feilding Moa - ECPv4.9.10//NONSGML v1.0//EN
CALSCALE:GREGORIAN
METHOD:PUBLISH
X-WR-CALNAME:Feilding Moa
X-ORIGINAL-URL:https://feildingmoa.co.nz
X-WR-CALDESC:Events for Feilding Moa
BEGIN:VTIMEZONE
TZID:Pacific/Auckland
BEGIN:STANDARD
TZOFFSETFROM:+1300
TZOFFSETTO:+1200
TZNAME:NZST
DTSTART:20250405T140000
END:STANDARD
BEGIN:DAYLIGHT
TZOFFSETFROM:+1200
TZOFFSETTO:+1300
TZNAME:NZDT
DTSTART:20250927T140000
END:DAYLIGHT
END:VTIMEZONE
BEGIN:VEVENT
DTSTART;TZID=Pacific/Auckland:20250830T133000
DTEND;TZID=Pacific/Auckland:20250830T153000
DTSTAMP:20260423T121334
CREATED:20190404T220034Z
LAST-MODIFIED:20250826T090840Z
UID:3598-1756560600-1756567800@feildingmoa.co.nz
SUMMARY:Beaconsfield Valley Rd/Haynes line
DESCRIPTION:This out-and-back race journeys along mostly quiet rural roads\, starting and finishing at the Beaconsfield Hall on Beaconsfield Valley Rd (turn right from SH54 about 5km after Cheltenham)\nRoute:The first 800m is from the Beaconsfield Hall\, then turning right into Haynes Line and continuing until you see a “turnaround” sign marked for each distance. \nMinimoas\, 1km \nBoys & Girls 7-13\, 3km \nColts (14-17)\, Junior women (14-19)\, Women and Walkers 5km \nMen &  U20 men:  8km \nFormat: Open handicap (staggered start). See start times posted on the day \nRace Bibs: please bring your usual Race Bib. If lost\, be sure to write your number on your hand and pause at the finish line to give to the recorder \n  \n
URL:https://feildingmoa.co.nz/event/beaconsfield-valley-rdhaynes-line-open-handicap/
LOCATION:Beaconsfield Memorial Hall\, 74 Beaconsfield Valley Rd\, Manawatu district\, 4779\, New Zealand
CATEGORIES:Club Event
ATTACH;FMTTYPE=image/jpeg:https://feildingmoa.co.nz/wp-content/uploads/2019/04/Beaconsfield-start-AMW.jpg
ORGANIZER;CN="Rob%20Dabb":MAILTO:feildingmoa@gmail.com
END:VEVENT
END:VCALENDAR