BEGIN:VCALENDAR
VERSION:2.0
PRODID:-//Feilding Moa - ECPv4.9.10//NONSGML v1.0//EN
CALSCALE:GREGORIAN
METHOD:PUBLISH
X-WR-CALNAME:Feilding Moa
X-ORIGINAL-URL:https://feildingmoa.co.nz
X-WR-CALDESC:Events for Feilding Moa
BEGIN:VTIMEZONE
TZID:Pacific/Auckland
BEGIN:STANDARD
TZOFFSETFROM:+1300
TZOFFSETTO:+1200
TZNAME:NZST
DTSTART:20230401T140000
END:STANDARD
BEGIN:DAYLIGHT
TZOFFSETFROM:+1200
TZOFFSETTO:+1300
TZNAME:NZDT
DTSTART:20230923T140000
END:DAYLIGHT
END:VTIMEZONE
BEGIN:VEVENT
DTSTART;TZID=Pacific/Auckland:20230701T133000
DTEND;TZID=Pacific/Auckland:20230701T143000
DTSTAMP:20260422T155334
CREATED:20230403T005327Z
LAST-MODIFIED:20230403T005327Z
UID:5135-1688218200-1688221800@feildingmoa.co.nz
SUMMARY:Club Pack Run - Timona Park
DESCRIPTION:For those not travelling to the North Island cross country champs in Taupo please meet 1.30pm at the club rooms and we will sort into several like-paced “packs” for a run or walk in and around Timona Park \n
URL:https://feildingmoa.co.nz/event/club-pack-run-timona-park/
LOCATION:Timona Park\, Simon St\, Feilding\, 4740\, New Zealand
CATEGORIES:Club Event
END:VEVENT
END:VCALENDAR