BEGIN:VCALENDAR
VERSION:2.0
PRODID:-//Feilding Moa - ECPv4.9.10//NONSGML v1.0//EN
CALSCALE:GREGORIAN
METHOD:PUBLISH
X-WR-CALNAME:Feilding Moa
X-ORIGINAL-URL:https://feildingmoa.co.nz
X-WR-CALDESC:Events for Feilding Moa
BEGIN:VTIMEZONE
TZID:Pacific/Auckland
BEGIN:STANDARD
TZOFFSETFROM:+1300
TZOFFSETTO:+1200
TZNAME:NZST
DTSTART:20250405T140000
END:STANDARD
BEGIN:DAYLIGHT
TZOFFSETFROM:+1200
TZOFFSETTO:+1300
TZNAME:NZDT
DTSTART:20250927T140000
END:DAYLIGHT
END:VTIMEZONE
BEGIN:VEVENT
DTSTART;TZID=Pacific/Auckland:20250920T133000
DTEND;TZID=Pacific/Auckland:20250920T160000
DTSTAMP:20260423T105020
CREATED:20150527T041816Z
LAST-MODIFIED:20250317T062313Z
UID:2312-1758375000-1758384000@feildingmoa.co.nz
SUMMARY:Club Road Champs / Annual prizegiving
DESCRIPTION:Final club race of the 2025 season\nStarts at 1.30pm\nRoute: out and back along Beaconsfield Valley Road \nDistances \n1km Minimoa \n3km Boys and girls \n5km Women\, colts\, junior women \n8km Junior men \n10km all men \nThen at 3:00pm it’s Afternoon tea  at the hall \nFeilding Moa Annual Prizegiving\nWill take place after the championship race. Even if you are not running\, please turn up to take part in the annual awards. Points trophies will be awarded for highest accumulation of Handicap race points throughout the season as well as other special category awards \n
URL:https://feildingmoa.co.nz/event/club-road-champs/
LOCATION:Beaconsfield Memorial Hall\, 74 Beaconsfield Valley Rd\, Manawatu district\, 4779\, New Zealand
CATEGORIES:Club Event
ATTACH;FMTTYPE=image/jpeg:https://feildingmoa.co.nz/wp-content/uploads/2016/07/port-st-start-2016.jpg
ORGANIZER;CN="Rob%20Dabb":MAILTO:feildingmoa@gmail.com
END:VEVENT
END:VCALENDAR