BEGIN:VCALENDAR
VERSION:2.0
PRODID:-//Feilding Moa - ECPv4.9.10//NONSGML v1.0//EN
CALSCALE:GREGORIAN
METHOD:PUBLISH
X-WR-CALNAME:Feilding Moa
X-ORIGINAL-URL:https://feildingmoa.co.nz
X-WR-CALDESC:Events for Feilding Moa
BEGIN:VTIMEZONE
TZID:Pacific/Auckland
BEGIN:STANDARD
TZOFFSETFROM:+1300
TZOFFSETTO:+1200
TZNAME:NZST
DTSTART:20210403T140000
END:STANDARD
BEGIN:DAYLIGHT
TZOFFSETFROM:+1200
TZOFFSETTO:+1300
TZNAME:NZDT
DTSTART:20210925T140000
END:DAYLIGHT
END:VTIMEZONE
BEGIN:VEVENT
DTSTART;TZID=Pacific/Auckland:20210807T133000
DTEND;TZID=Pacific/Auckland:20210807T153000
DTSTAMP:20260422T192447
CREATED:20210401T001458Z
LAST-MODIFIED:20210401T001535Z
UID:4484-1628343000-1628350200@feildingmoa.co.nz
SUMMARY:Feilding High School Farm XC
DESCRIPTION:Find out why FHS produces such talented athletes by taking a run around the Halcombe Hill farm just on the outskirts of Feilding. \nDistances to be confirmed. A great cross country course is guaranteed. \n
URL:https://feildingmoa.co.nz/event/feilding-high-school-farm-xc/
LOCATION:Feilding HS Farm\, 69 Halcombe Road\, Feilding\, 4775\, New Zealand
CATEGORIES:Club Event,Interclub Event
ORGANIZER;CN="Paul%20Wasley":MAILTO:nessandwaz@xtra.co.nz
END:VEVENT
END:VCALENDAR