BEGIN:VCALENDAR
VERSION:2.0
PRODID:-//Feilding Moa - ECPv4.9.10//NONSGML v1.0//EN
CALSCALE:GREGORIAN
METHOD:PUBLISH
X-WR-CALNAME:Feilding Moa
X-ORIGINAL-URL:https://feildingmoa.co.nz
X-WR-CALDESC:Events for Feilding Moa
BEGIN:VTIMEZONE
TZID:Pacific/Auckland
BEGIN:STANDARD
TZOFFSETFROM:+1300
TZOFFSETTO:+1200
TZNAME:NZST
DTSTART:20240406T140000
END:STANDARD
BEGIN:DAYLIGHT
TZOFFSETFROM:+1200
TZOFFSETTO:+1300
TZNAME:NZDT
DTSTART:20240928T140000
END:DAYLIGHT
END:VTIMEZONE
BEGIN:VEVENT
DTSTART;TZID=Pacific/Auckland:20240309T100000
DTEND;TZID=Pacific/Auckland:20240309T163000
DTSTAMP:20260423T013830
CREATED:20221004T032007Z
LAST-MODIFIED:20241025T023230Z
UID:5015-1709978400-1710001800@feildingmoa.co.nz
SUMMARY:Feilding Ribbon Day
DESCRIPTION:Feilding Moa invite all members and children from other clubs across the region to our Ribbon Day – programme  will be posted closer to the day. Events will include 60m\, 100m\, 200m\, 400m\, 800m\, 1500m ( may include short hurdles);. discus\, shotput\, long jump and high jump. \nEntry fee $10 \n  \n
URL:https://feildingmoa.co.nz/event/feilding-ribbon-day/
LOCATION:Timona Park\, Simon St\, Feilding\, 4740\, New Zealand
CATEGORIES:Interclub Event
ATTACH;FMTTYPE=image/jpeg:https://feildingmoa.co.nz/wp-content/uploads/2019/04/minis-start.jpg
END:VEVENT
END:VCALENDAR