BEGIN:VCALENDAR
VERSION:2.0
PRODID:-//Feilding Moa - ECPv4.9.10//NONSGML v1.0//EN
CALSCALE:GREGORIAN
METHOD:PUBLISH
X-WR-CALNAME:Feilding Moa
X-ORIGINAL-URL:https://feildingmoa.co.nz
X-WR-CALDESC:Events for Feilding Moa
BEGIN:VTIMEZONE
TZID:Pacific/Auckland
BEGIN:STANDARD
TZOFFSETFROM:+1300
TZOFFSETTO:+1200
TZNAME:NZST
DTSTART:20190406T140000
END:STANDARD
BEGIN:DAYLIGHT
TZOFFSETFROM:+1200
TZOFFSETTO:+1300
TZNAME:NZDT
DTSTART:20190928T140000
END:DAYLIGHT
END:VTIMEZONE
BEGIN:VEVENT
DTSTART;TZID=Pacific/Auckland:20190720T133000
DTEND;TZID=Pacific/Auckland:20190720T150000
DTSTAMP:20260422T155508
CREATED:20180801T013900Z
LAST-MODIFIED:20190709T095958Z
UID:3488-1563629400-1563634800@feildingmoa.co.nz
SUMMARY:LATE CHANGE - New venue - Feilding High farm
DESCRIPTION:We were scheduled for a run at mt Stewart Silos but have that venue is unexpectedly unavailable. However we have a tremendous replacement to offer up: \nFeilding High Schools Halcombe Rd farm\nSo another opportunity for cross country! The main route is about 5km\, with shorter options for our younger members. See Course Map via the mapmyrun link below \nMinimoa’s: short lap of about 1km \n7-13 boys and girls: short lap plus long lap = 2.8km \nEVERYONE Else  10km \n  \n
URL:https://feildingmoa.co.nz/event/fhs-farm/
LOCATION:Feilding HS Farm\, 69 Halcombe Road\, Feilding\, 4775\, New Zealand
CATEGORIES:Club Event
ATTACH;FMTTYPE=image/jpeg:https://feildingmoa.co.nz/wp-content/uploads/2016/08/Silos-run.jpg
ORGANIZER;CN="Rob%20Dabb":MAILTO:feildingmoa@gmail.com
END:VEVENT
END:VCALENDAR