BEGIN:VCALENDAR
VERSION:2.0
PRODID:-//Feilding Moa - ECPv4.9.10//NONSGML v1.0//EN
CALSCALE:GREGORIAN
METHOD:PUBLISH
X-WR-CALNAME:Feilding Moa
X-ORIGINAL-URL:https://feildingmoa.co.nz
X-WR-CALDESC:Events for Feilding Moa
BEGIN:VTIMEZONE
TZID:Pacific/Auckland
BEGIN:STANDARD
TZOFFSETFROM:+1300
TZOFFSETTO:+1200
TZNAME:NZST
DTSTART:20230401T140000
END:STANDARD
BEGIN:DAYLIGHT
TZOFFSETFROM:+1200
TZOFFSETTO:+1300
TZNAME:NZDT
DTSTART:20230923T140000
END:DAYLIGHT
END:VTIMEZONE
BEGIN:VEVENT
DTSTART;TZID=Pacific/Auckland:20230415T133000
DTEND;TZID=Pacific/Auckland:20230415T153000
DTSTAMP:20260422T081005
CREATED:20190409T001848Z
LAST-MODIFIED:20230411T001751Z
UID:3686-1681565400-1681572600@feildingmoa.co.nz
SUMMARY:Feilding High School farm XC
DESCRIPTION:Our first Farm cross Country course of the season was meant to be at Thompsons – but slow new grass growth means the farm comes first\, so we delighted Feilding High SChool have made their Halcombe Rd farm available \nDirections: West St\, Feilding becomes Halcombe Rd – veer left at top of the hill to the farm. It’s well signposted \nCourse comprises around 3km per lap: \nMinimoa’s 1km (for Under-7’s or anyone who wants a shorter run) \n3km: Boys/Girls 7-13 \n6km: Girls 14-19\, Colts 14-17\, Women\, Walk \n9km: U20 men\, Open men \nNew to cross country running? You are welcome to just pitch up and try one lap or two. \nPlease bring a plate for afternoon tea at the woolshed. \nWe last ran here in August 2021 – those who were there will remember it was wet’n’muddy – Brian pictured here was in fact one of the “cleanest” finishers!  \n  \n
URL:https://feildingmoa.co.nz/event/fhs/
LOCATION:Feilding HS Farm\, 69 Halcombe Road\, Feilding\, 4775\, New Zealand
CATEGORIES:Club Event
ATTACH;FMTTYPE=image/jpeg:https://feildingmoa.co.nz/wp-content/uploads/2019/04/muddy-shoes-FHS.jpg
ORGANIZER;CN="Paul%20Wasley":MAILTO:nessandwaz@xtra.co.nz
END:VEVENT
END:VCALENDAR