BEGIN:VCALENDAR
VERSION:2.0
PRODID:-//Feilding Moa - ECPv4.9.10//NONSGML v1.0//EN
CALSCALE:GREGORIAN
METHOD:PUBLISH
X-WR-CALNAME:Feilding Moa
X-ORIGINAL-URL:https://feildingmoa.co.nz
X-WR-CALDESC:Events for Feilding Moa
BEGIN:VTIMEZONE
TZID:Pacific/Auckland
BEGIN:STANDARD
TZOFFSETFROM:+1300
TZOFFSETTO:+1200
TZNAME:NZST
DTSTART:20210403T140000
END:STANDARD
BEGIN:DAYLIGHT
TZOFFSETFROM:+1200
TZOFFSETTO:+1300
TZNAME:NZDT
DTSTART:20210925T140000
END:DAYLIGHT
END:VTIMEZONE
BEGIN:VEVENT
DTSTART;TZID=Pacific/Auckland:20210321T080000
DTEND;TZID=Pacific/Auckland:20210321T103000
DTSTAMP:20260422T162647
CREATED:20210308T202527Z
LAST-MODIFIED:20210308T203103Z
UID:4440-1616313600-1616322600@feildingmoa.co.nz
SUMMARY:Footprints in the Sand - Foxton Beach
DESCRIPTION:Foxton Lions present this event with distances ranging from 5km to Half marathon \n8;00am Half marathon run/walk  $30 \n8:30am 10km run/walk  $20 \n9:00am 5km run/walk  $10 \n
URL:https://feildingmoa.co.nz/event/footprints-in-the-sand-foxton-beach/
LOCATION:Foxton Beach Surf Life Saving club\, Marine Parade South\, Foxton Beach\, 4815\, New Zealand
ATTACH;FMTTYPE=image/png:https://feildingmoa.co.nz/wp-content/uploads/2021/03/Foxton-beach-run.png
ORGANIZER;CN="Foxton%20Lions":MAILTO:funrun@foxtonlions.co.nz
END:VEVENT
END:VCALENDAR