BEGIN:VCALENDAR
VERSION:2.0
PRODID:-//Feilding Moa - ECPv4.9.10//NONSGML v1.0//EN
CALSCALE:GREGORIAN
METHOD:PUBLISH
X-WR-CALNAME:Feilding Moa
X-ORIGINAL-URL:https://feildingmoa.co.nz
X-WR-CALDESC:Events for Feilding Moa
BEGIN:VTIMEZONE
TZID:Pacific/Auckland
BEGIN:STANDARD
TZOFFSETFROM:+1300
TZOFFSETTO:+1200
TZNAME:NZST
DTSTART:20240406T140000
END:STANDARD
BEGIN:DAYLIGHT
TZOFFSETFROM:+1200
TZOFFSETTO:+1300
TZNAME:NZDT
DTSTART:20240928T140000
END:DAYLIGHT
END:VTIMEZONE
BEGIN:VEVENT
DTSTART;TZID=Pacific/Auckland:20240601T130000
DTEND;TZID=Pacific/Auckland:20240601T160000
DTSTAMP:20260422T135559
CREATED:20150430T235157Z
LAST-MODIFIED:20240403T232431Z
UID:2157-1717246800-1717257600@feildingmoa.co.nz
SUMMARY:Hughes Memorial Cross Country\, Hawera
DESCRIPTION:Hawera Harriers host this iconic cross country event at Hawera in South Taranaki\nWe won’t be making this an official club trip this year but encourage those who wish to support this long-standing cross country race. Merit prizes for all ages also up for grabs.  The event is on Saturday of Kings Birthday weekend \nRaces for all ages and including an excellent Walk event based on estimated time. \nENTRY form coming soon \nRACE Schedule (to be confirmed closer to race day)\n1:00pm  Walkers – all grades 4000m – estimated time (no watches) \n1:00pm  Women U18 & U20yrs\, U16 Men  4000m \n1:00pm  Senior women/W35+\,  Men  65+  4000m\n1:30pm  Boys & Girls U10/U12 years           2000m\n1:45pm  Girls U14\, U16 years\,  Boys U14     3000m\n2:05pm  Men U18 & U20 years                     6000m\n2:40pm  Senior men & 35-64 yrs                 8000m \nAge calculated as of 31 December 2024. e.g if you are 12\, but turn 13 before 31st December you will compete in the Under-15 grade\n Walkers – Estimated time competition\, prize for closest time. Pre-entry. No watches.\n Club uniform must be worn by all competitors. \nTeam Prizes – 4 runners to count (awarded for each race except B & G U10/U12) – the fastest four from each club will be counted in the team – no need to enter a “team” on paper prior to the race. \n
URL:https://feildingmoa.co.nz/event/hughesmemorial-cross-country-hawera/
LOCATION:Hawera Showgrounds\, Burnside Ave\, Hawera\, New Zealand
CATEGORIES:Club Event,Interclub Event
ATTACH;FMTTYPE=image/jpeg:https://feildingmoa.co.nz/wp-content/uploads/2015/05/women-and-Moa.jpg
END:VEVENT
END:VCALENDAR