BEGIN:VCALENDAR
VERSION:2.0
PRODID:-//Feilding Moa - ECPv4.9.10//NONSGML v1.0//EN
CALSCALE:GREGORIAN
METHOD:PUBLISH
X-WR-CALNAME:Feilding Moa
X-ORIGINAL-URL:https://feildingmoa.co.nz
X-WR-CALDESC:Events for Feilding Moa
BEGIN:VTIMEZONE
TZID:Pacific/Auckland
BEGIN:STANDARD
TZOFFSETFROM:+1300
TZOFFSETTO:+1200
TZNAME:NZST
DTSTART:20240406T140000
END:STANDARD
BEGIN:DAYLIGHT
TZOFFSETFROM:+1200
TZOFFSETTO:+1300
TZNAME:NZDT
DTSTART:20240928T140000
END:DAYLIGHT
END:VTIMEZONE
BEGIN:VEVENT
DTSTART;VALUE=DATE:20240512
DTEND;VALUE=DATE:20240513
DTSTAMP:20260422T154831
CREATED:20240319T033544Z
LAST-MODIFIED:20240319T033544Z
UID:5400-1715472000-1715558399@feildingmoa.co.nz
SUMMARY:Manawatu Striders Marathon & Half Marathon
DESCRIPTION:Events from a kids marafun through to the full 42.2km \nSee further info here: \n  \n
URL:https://feildingmoa.co.nz/event/manawatu-striders-marathon-half-marathon/
CATEGORIES:Outside Event
ATTACH;FMTTYPE=image/png:https://feildingmoa.co.nz/wp-content/uploads/2024/03/marathon-entry-pic.png
END:VEVENT
END:VCALENDAR