BEGIN:VCALENDAR
VERSION:2.0
PRODID:-//Feilding Moa - ECPv4.9.10//NONSGML v1.0//EN
CALSCALE:GREGORIAN
METHOD:PUBLISH
X-WR-CALNAME:Feilding Moa
X-ORIGINAL-URL:https://feildingmoa.co.nz
X-WR-CALDESC:Events for Feilding Moa
BEGIN:VTIMEZONE
TZID:Pacific/Auckland
BEGIN:STANDARD
TZOFFSETFROM:+1300
TZOFFSETTO:+1200
TZNAME:NZST
DTSTART:20190406T140000
END:STANDARD
BEGIN:DAYLIGHT
TZOFFSETFROM:+1200
TZOFFSETTO:+1300
TZNAME:NZDT
DTSTART:20190928T140000
END:DAYLIGHT
END:VTIMEZONE
BEGIN:VEVENT
DTSTART;TZID=Pacific/Auckland:20190831T133000
DTEND;TZID=Pacific/Auckland:20190831T153000
DTSTAMP:20260422T131011
CREATED:20190814T090108Z
LAST-MODIFIED:20190814T090247Z
UID:4048-1567258200-1567265400@feildingmoa.co.nz
SUMMARY:Manfield Park sealed handicap
DESCRIPTION:2\, 4\, 6\, 8\nRunning and walking at Feilding Moa\nEvery Saturday makes us feel great\nThe season is nearing it’s conclusion and the Handicap Points today could decide the overall champions for the year. Flat and fast 2km laps around Manfield Park (grassed area of the old racecourse). \nAccess from Kawa Kawa Rd about opposite Turners Rd. \n
URL:https://feildingmoa.co.nz/event/manfield-park-sealed-handicap/
LOCATION:Manfeild Park\, Rata St\, Feilding\, 4702\, New Zealand
CATEGORIES:Club Event
END:VEVENT
END:VCALENDAR