BEGIN:VCALENDAR
VERSION:2.0
PRODID:-//Feilding Moa - ECPv4.9.10//NONSGML v1.0//EN
CALSCALE:GREGORIAN
METHOD:PUBLISH
X-WR-CALNAME:Feilding Moa
X-ORIGINAL-URL:https://feildingmoa.co.nz
X-WR-CALDESC:Events for Feilding Moa
BEGIN:VTIMEZONE
TZID:Pacific/Auckland
BEGIN:STANDARD
TZOFFSETFROM:+1300
TZOFFSETTO:+1200
TZNAME:NZST
DTSTART:20220402T140000
END:STANDARD
BEGIN:DAYLIGHT
TZOFFSETFROM:+1200
TZOFFSETTO:+1300
TZNAME:NZDT
DTSTART:20220924T140000
END:DAYLIGHT
END:VTIMEZONE
BEGIN:VEVENT
DTSTART;TZID=Pacific/Auckland:20220910T093000
DTEND;TZID=Pacific/Auckland:20220910T170000
DTSTAMP:20260422T234613
CREATED:20220728T044319Z
LAST-MODIFIED:20220728T044400Z
UID:4953-1662802200-1662829200@feildingmoa.co.nz
SUMMARY:Marton to Wanganui Relay
DESCRIPTION:This 65km or so route is broken into 10 legs. Teams of 5-10 depart from the centre of Marton and finish at the Wanganui East Cosmopolitan Club \n9.30am Senior runners relay 3km to 10km legs Infosheet \nMidday Junior relay is 6 legs of 2.5 to6.3km: infosheet: \nTo be part of a team please email Paul Wasley \n
URL:https://feildingmoa.co.nz/event/marton-to-wanganui-relay-2/
CATEGORIES:Club Event,Interclub Event,Relay
END:VEVENT
END:VCALENDAR