BEGIN:VCALENDAR
VERSION:2.0
PRODID:-//Feilding Moa - ECPv4.9.10//NONSGML v1.0//EN
CALSCALE:GREGORIAN
METHOD:PUBLISH
X-WR-CALNAME:Feilding Moa
X-ORIGINAL-URL:https://feildingmoa.co.nz
X-WR-CALDESC:Events for Feilding Moa
BEGIN:VTIMEZONE
TZID:Pacific/Auckland
BEGIN:STANDARD
TZOFFSETFROM:+1300
TZOFFSETTO:+1200
TZNAME:NZST
DTSTART:20230401T140000
END:STANDARD
BEGIN:DAYLIGHT
TZOFFSETFROM:+1200
TZOFFSETTO:+1300
TZNAME:NZDT
DTSTART:20230923T140000
END:DAYLIGHT
END:VTIMEZONE
BEGIN:VEVENT
DTSTART;TZID=Pacific/Auckland:20230610T133000
DTEND;TZID=Pacific/Auckland:20230610T150000
DTSTAMP:20260422T111926
CREATED:20230328T032441Z
LAST-MODIFIED:20230504T101206Z
UID:5094-1686403800-1686409200@feildingmoa.co.nz
SUMMARY:Massey University XC
DESCRIPTION:Come run the NZ Secondary Schools cross country championship course 1 week before 1000 secondary school athletes turn up. \nOur job is to help flatten the course in time for next week! \nVENUE: Sport & Rugby Institute\, Massey University\, Albany Drive\, Palmerston North \nACCESS: From Old West Rd\, truninto Albany Drive \nPARKING: Go approx 300m past the Sport & Rugby Institute (SRI)and turn into the main carpark. No parking beside the SRI except for officials or approved persons \nFREE REGISTRATION: To have your name and time recorded please register here by 8pm Friday 9th June. \nChoose your distance from 1k\, 2k\, 3k\, 5k\, 8k \nFeilding Moa members do not need to pre-register – simply turn up wearing your usual Race Number and check in at Registration to nominate your Distance \nDefault Distances (but you can choose any of these) \n7 years and under 1km \n8-13 years 3km \n14-19 women 4km \nwomen 5km \nmen 8km \nThe 2000m course offers around 550m flat fast running and 1550m of undulating farmland. Expect a bit of mud! \nLAPS 2000m – 25m elevation gain per lap \nA short-lap of 1000m is run first for the odd-numbered distances \n  \nWe are especially encouraging any secondary school athletes\, Manawatu and beyond\, to come test out the course a week before the NZ champs \n
URL:https://feildingmoa.co.nz/event/massey-university-xc/
LOCATION:Massey University\, Albany Drive Palmerston North\, 56 Albany Drive\, Palmerston North\, manawatu\, 4410\, New Zealand
CATEGORIES:Club Event,Interclub Event
ATTACH;FMTTYPE=image/jpeg:https://feildingmoa.co.nz/wp-content/uploads/2023/03/Massey-XC-promo.jpg
END:VEVENT
END:VCALENDAR