BEGIN:VCALENDAR
VERSION:2.0
PRODID:-//Feilding Moa - ECPv4.9.10//NONSGML v1.0//EN
CALSCALE:GREGORIAN
METHOD:PUBLISH
X-WR-CALNAME:Feilding Moa
X-ORIGINAL-URL:https://feildingmoa.co.nz
X-WR-CALDESC:Events for Feilding Moa
BEGIN:VTIMEZONE
TZID:Pacific/Auckland
BEGIN:STANDARD
TZOFFSETFROM:+1300
TZOFFSETTO:+1200
TZNAME:NZST
DTSTART:20240406T140000
END:STANDARD
BEGIN:DAYLIGHT
TZOFFSETFROM:+1200
TZOFFSETTO:+1300
TZNAME:NZDT
DTSTART:20240928T140000
END:DAYLIGHT
END:VTIMEZONE
BEGIN:VEVENT
DTSTART;TZID=Pacific/Auckland:20240706T100000
DTEND;TZID=Pacific/Auckland:20240706T140000
DTSTAMP:20260422T103555
CREATED:20150506T110102Z
LAST-MODIFIED:20240517T020432Z
UID:2175-1720260000-1720274400@feildingmoa.co.nz
SUMMARY:North Island XC Champs Taupo
DESCRIPTION: One of the premier cross country events in the country with  runners from Auckland to Wellington. Races for all grades. \nFeilding Moa have been regularly represented on the podium and this year has an even better feel about it!. Races for all ages from the very young through to Masters recognised in 5 year age groups. \nAny Feilding Moa athletes wanting to take part are responsible for submitting and paying for their own entry  \nFirst race starts 10.00am (Under 10’s 1km). last race 1.50pm (senior men 9km) \nFLYER 2024 NIXCC Programme and Info \nFees range from $12 to $35 \n  \n
URL:https://feildingmoa.co.nz/event/north-island-xc-champs/
LOCATION:Spa Thermal Park\, County Ave\, Taupo\, 3378\, New Zealand
CATEGORIES:Interclub Event,National Event
ATTACH;FMTTYPE=image/jpeg:https://feildingmoa.co.nz/wp-content/uploads/2015/05/scott-and-waz-jump.jpg
ORGANIZER;CN="Rob%20Dabb":MAILTO:feildingmoa@gmail.com
END:VEVENT
END:VCALENDAR