BEGIN:VCALENDAR
VERSION:2.0
PRODID:-//Feilding Moa - ECPv4.9.10//NONSGML v1.0//EN
CALSCALE:GREGORIAN
METHOD:PUBLISH
X-WR-CALNAME:Feilding Moa
X-ORIGINAL-URL:https://feildingmoa.co.nz
X-WR-CALDESC:Events for Feilding Moa
BEGIN:VTIMEZONE
TZID:Pacific/Auckland
BEGIN:STANDARD
TZOFFSETFROM:+1300
TZOFFSETTO:+1200
TZNAME:NZST
DTSTART:20240406T140000
END:STANDARD
BEGIN:DAYLIGHT
TZOFFSETFROM:+1200
TZOFFSETTO:+1300
TZNAME:NZDT
DTSTART:20240928T140000
END:DAYLIGHT
END:VTIMEZONE
BEGIN:VEVENT
DTSTART;TZID=Pacific/Auckland:20240504T160000
DTEND;TZID=Pacific/Auckland:20240504T200000
DTSTAMP:20260422T195724
CREATED:20240319T195713Z
LAST-MODIFIED:20240320T022654Z
UID:5406-1714838400-1714852800@feildingmoa.co.nz
SUMMARY:NZ 5km Road Champs
DESCRIPTION:New to the national calendar is this event to be held on the Rotorua Airport runway. \n(10km road champs will be at Timaru in late October) \ndetails will be updated on the Athletics NZ events page \nThis event will include a 4-person Centre teams competition per grade. \n
URL:https://feildingmoa.co.nz/event/nz-5km-road-champs/
CATEGORIES:National Event
END:VEVENT
END:VCALENDAR