BEGIN:VCALENDAR
VERSION:2.0
PRODID:-//Feilding Moa - ECPv4.9.10//NONSGML v1.0//EN
CALSCALE:GREGORIAN
METHOD:PUBLISH
X-WR-CALNAME:Feilding Moa
X-ORIGINAL-URL:https://feildingmoa.co.nz
X-WR-CALDESC:Events for Feilding Moa
BEGIN:VTIMEZONE
TZID:Pacific/Auckland
BEGIN:STANDARD
TZOFFSETFROM:+1300
TZOFFSETTO:+1200
TZNAME:NZST
DTSTART:20240406T140000
END:STANDARD
BEGIN:DAYLIGHT
TZOFFSETFROM:+1200
TZOFFSETTO:+1300
TZNAME:NZDT
DTSTART:20240928T140000
END:DAYLIGHT
END:VTIMEZONE
BEGIN:VEVENT
DTSTART;TZID=Pacific/Auckland:20240504T080000
DTEND;TZID=Pacific/Auckland:20240504T170000
DTSTAMP:20260422T212923
CREATED:20240319T200100Z
LAST-MODIFIED:20240319T200355Z
UID:5408-1714809600-1714842000@feildingmoa.co.nz
SUMMARY:NZ Marathon Champs / Rotorua Marathon
DESCRIPTION:Rotorua marathon is iconic and this year includes the Senior and Masters NZ Champs. \nFeilding Moa Club members get a discount on entry by using the code 24ANZMEMBER at the checkout \nEnter here\n  \n
URL:https://feildingmoa.co.nz/event/nz-marathon-champs-rotorua-marathon/
CATEGORIES:National Event
END:VEVENT
END:VCALENDAR