BEGIN:VCALENDAR
VERSION:2.0
PRODID:-//Feilding Moa - ECPv4.9.10//NONSGML v1.0//EN
CALSCALE:GREGORIAN
METHOD:PUBLISH
X-WR-CALNAME:Feilding Moa
X-ORIGINAL-URL:https://feildingmoa.co.nz
X-WR-CALDESC:Events for Feilding Moa
BEGIN:VTIMEZONE
TZID:Pacific/Auckland
BEGIN:STANDARD
TZOFFSETFROM:+1300
TZOFFSETTO:+1200
TZNAME:NZST
DTSTART:20200404T140000
END:STANDARD
BEGIN:DAYLIGHT
TZOFFSETFROM:+1200
TZOFFSETTO:+1300
TZNAME:NZDT
DTSTART:20200926T140000
END:DAYLIGHT
END:VTIMEZONE
BEGIN:VEVENT
DTSTART;TZID=Pacific/Auckland:20201003T083000
DTEND;TZID=Pacific/Auckland:20201003T143000
DTSTAMP:20260422T132515
CREATED:20200825T000828Z
LAST-MODIFIED:20200825T001623Z
UID:4340-1601713800-1601735400@feildingmoa.co.nz
SUMMARY:NZ Road Relay Championship
DESCRIPTION:Hosted by Feilding Moa Harriers here in Feilding\nPaul Wasley and Rob Dabb are coordinating our teams. \nWe anticipate welcoming over 100 teams and 1000+ runners\, walkers and supporters over this weekend. \nJacinda Duker is coordinating our team of Volunteers – we need your help \nSee Relay info here: \n
URL:https://feildingmoa.co.nz/event/nz-road-relay-championship/
LOCATION:Manfeild Park\, Rata St\, Feilding\, 4702\, New Zealand
CATEGORIES:National Event,Relay
ATTACH;FMTTYPE=image/jpeg:https://feildingmoa.co.nz/wp-content/uploads/2020/08/Junior-winners_podium.jpg
ORGANIZER;CN="Rob%20Dabb":MAILTO:feildingmoa@gmail.com
END:VEVENT
END:VCALENDAR