BEGIN:VCALENDAR
VERSION:2.0
PRODID:-//Feilding Moa - ECPv4.9.10//NONSGML v1.0//EN
CALSCALE:GREGORIAN
METHOD:PUBLISH
X-WR-CALNAME:Feilding Moa
X-ORIGINAL-URL:https://feildingmoa.co.nz
X-WR-CALDESC:Events for Feilding Moa
BEGIN:VTIMEZONE
TZID:Pacific/Auckland
BEGIN:STANDARD
TZOFFSETFROM:+1300
TZOFFSETTO:+1200
TZNAME:NZST
DTSTART:20230401T140000
END:STANDARD
BEGIN:DAYLIGHT
TZOFFSETFROM:+1200
TZOFFSETTO:+1300
TZNAME:NZDT
DTSTART:20230923T140000
END:DAYLIGHT
END:VTIMEZONE
BEGIN:VEVENT
DTSTART;VALUE=DATE:20230617
DTEND;VALUE=DATE:20230618
DTSTAMP:20260422T125615
CREATED:20230328T031527Z
LAST-MODIFIED:20230328T031803Z
UID:5091-1686960000-1687046399@feildingmoa.co.nz
SUMMARY:NZ Secondary School cross country
DESCRIPTION:VENUE: Massey University\,  Sport & Rugby Institute \nWHEN: Saturday 17th June for the main championship \nSunday 18th June for Regional relays (e.g. Manawatu\, Wanganui\, Wellington…) \nFull details coming soon \nCheck the event Facebook page \nKIDS: Talk to your School sports administrator – tell them you’re going!\n
URL:https://feildingmoa.co.nz/event/nz-secondary-school-cross-country/
CATEGORIES:National Event
ATTACH;FMTTYPE=image/jpeg:https://feildingmoa.co.nz/wp-content/uploads/2023/03/20210619_140758-scaled.jpg
END:VEVENT
END:VCALENDAR