BEGIN:VCALENDAR
VERSION:2.0
PRODID:-//Feilding Moa - ECPv4.9.10//NONSGML v1.0//EN
CALSCALE:GREGORIAN
METHOD:PUBLISH
X-WR-CALNAME:Feilding Moa
X-ORIGINAL-URL:https://feildingmoa.co.nz
X-WR-CALDESC:Events for Feilding Moa
BEGIN:VTIMEZONE
TZID:Pacific/Auckland
BEGIN:STANDARD
TZOFFSETFROM:+1300
TZOFFSETTO:+1200
TZNAME:NZST
DTSTART:20200404T140000
END:STANDARD
BEGIN:DAYLIGHT
TZOFFSETFROM:+1200
TZOFFSETTO:+1300
TZNAME:NZDT
DTSTART:20200926T140000
END:DAYLIGHT
END:VTIMEZONE
BEGIN:VEVENT
DTSTART;TZID=Pacific/Auckland:20200801T133000
DTEND;TZID=Pacific/Auckland:20200801T153000
DTSTAMP:20260422T082906
CREATED:20190731T041619Z
LAST-MODIFIED:20200728T041435Z
UID:3994-1596288600-1596295800@feildingmoa.co.nz
SUMMARY:Ridds Farm Trail
DESCRIPTION:The venue is 145 McBeth Rd\, Kiwitea. Just come up Kimbolton Rd and turn left at the Kiwitea Hall then the next right is Mcbeth Rd. See the Moa sign at the gate \nExpect a flat to undulating# out and back course along an internal gravelled farm road. Wear shoes appropriate to the conditions. this is a “scratch” race rather than handicap. Please remember your Bib as it help us get results out fast and accurate. \n2.5km Boy & Girls\n4km  Walk\, Junior women and Colts\n7km Women\, Men\, U20 men\n# undulating is a Moa code-word for a little bit hilly \nAfternoon tea is at the nearby Kiwitea Hall \n  \n  \n
URL:https://feildingmoa.co.nz/event/ridds-farm/
LOCATION:Ridds Mcbeth Rd Farm\, 145 McBeth Road\, Beaconsfield\, Manawatu\, 4777\, New Zealand
CATEGORIES:Club Event
ORGANIZER;CN="Mark%20Evans":MAILTO:mpevans@inspire.net.nz
END:VEVENT
END:VCALENDAR