BEGIN:VCALENDAR
VERSION:2.0
PRODID:-//Feilding Moa - ECPv4.9.10//NONSGML v1.0//EN
CALSCALE:GREGORIAN
METHOD:PUBLISH
X-WR-CALNAME:Feilding Moa
X-ORIGINAL-URL:https://feildingmoa.co.nz
X-WR-CALDESC:Events for Feilding Moa
BEGIN:VTIMEZONE
TZID:Pacific/Auckland
BEGIN:STANDARD
TZOFFSETFROM:+1300
TZOFFSETTO:+1200
TZNAME:NZST
DTSTART:20240406T140000
END:STANDARD
BEGIN:DAYLIGHT
TZOFFSETFROM:+1200
TZOFFSETTO:+1300
TZNAME:NZDT
DTSTART:20240928T140000
END:DAYLIGHT
END:VTIMEZONE
BEGIN:VEVENT
DTSTART;TZID=Pacific/Auckland:20240420T133000
DTEND;TZID=Pacific/Auckland:20240420T150000
DTSTAMP:20260423T002738
CREATED:20240403T231808Z
LAST-MODIFIED:20240405T075335Z
UID:5446-1713619800-1713625200@feildingmoa.co.nz
SUMMARY:Thompsons Farm Cross Country
DESCRIPTION:After a break of a year or two we’re pleased to be back to Brent & Tracey Thompson’s sheep and cattle farm for today’s cross country race. This will be a “scratch” race\, meaning a mass start per grade. \nVenue: 1397 Makino Rd (see the Moa sign at the gate). We recommend arriving by 1pm to get your timing chip sorted etc \nDistances (subject to final checks) \nMini Moa 1km \nKids 7-14yr: 2.5kn \nColts\, junior women\, women\, 5km \nMen 7.5km \nOur Handicappers will use results from this race and previous weeks to assign Handicaps for next weeks race \nAfternoon tea follows at the woolshed – please bring a plate \n
URL:https://feildingmoa.co.nz/event/thompsons-farm-cross-country/
LOCATION:Thompsons farm\, 1397 Makino Road\, Halcombe\, Manawatu\, 4777\, New Zealand
CATEGORIES:Club Event
ATTACH;FMTTYPE=image/jpeg:https://feildingmoa.co.nz/wp-content/uploads/2019/04/group-scene.jpg
END:VEVENT
END:VCALENDAR