BEGIN:VCALENDAR
VERSION:2.0
PRODID:-//Feilding Moa - ECPv4.9.10//NONSGML v1.0//EN
CALSCALE:GREGORIAN
METHOD:PUBLISH
X-WR-CALNAME:Feilding Moa
X-ORIGINAL-URL:https://feildingmoa.co.nz
X-WR-CALDESC:Events for Feilding Moa
BEGIN:VTIMEZONE
TZID:Pacific/Auckland
BEGIN:STANDARD
TZOFFSETFROM:+1300
TZOFFSETTO:+1200
TZNAME:NZST
DTSTART:20230401T140000
END:STANDARD
BEGIN:DAYLIGHT
TZOFFSETFROM:+1200
TZOFFSETTO:+1300
TZNAME:NZDT
DTSTART:20230923T140000
END:DAYLIGHT
END:VTIMEZONE
BEGIN:VEVENT
DTSTART;TZID=Pacific/Auckland:20230805T133000
DTEND;TZID=Pacific/Auckland:20230805T170000
DTSTAMP:20260422T155432
CREATED:20230802T205838Z
LAST-MODIFIED:20230802T210050Z
UID:5251-1691242200-1691254800@feildingmoa.co.nz
SUMMARY:Timona Park Handicap XC
DESCRIPTION:Our final cross country fling for the season so do come along and enjoy! \nMini  moa’s (under 7) approximately 1km \n1 lap: Boy/Girls 7-13 yrs\, (2.5k) \n2 laps: Colts (14-17)\, Junior women (14-19)\, Women\, Walk\, (5km) \n3 laps: men\, junior men \nFormat: Open handicap. Check for your allocated start time on the notice board at the clubrooms. \nRace Bibs: required for today. if you’ve forgotten or mislaid it\, see the registration desk for a number on your hand \n
URL:https://feildingmoa.co.nz/event/timona-park-handicap-xc/
LOCATION:Timona Park\, Simon St\, Feilding\, 4740\, New Zealand
CATEGORIES:Club Event
ATTACH;FMTTYPE=image/jpeg:https://feildingmoa.co.nz/wp-content/uploads/2023/08/2023-opening-run-group.jpg
ORGANIZER;CN="Mark%20Evans":MAILTO:mpevans@inspire.net.nz
END:VEVENT
END:VCALENDAR