BEGIN:VCALENDAR
VERSION:2.0
PRODID:-//Feilding Moa - ECPv4.9.10//NONSGML v1.0//EN
CALSCALE:GREGORIAN
METHOD:PUBLISH
X-WR-CALNAME:Feilding Moa
X-ORIGINAL-URL:https://feildingmoa.co.nz
X-WR-CALDESC:Events for Feilding Moa
BEGIN:VTIMEZONE
TZID:Pacific/Auckland
BEGIN:STANDARD
TZOFFSETFROM:+1300
TZOFFSETTO:+1200
TZNAME:NZST
DTSTART:20180331T140000
END:STANDARD
BEGIN:DAYLIGHT
TZOFFSETFROM:+1200
TZOFFSETTO:+1300
TZNAME:NZDT
DTSTART:20180929T140000
END:DAYLIGHT
END:VTIMEZONE
BEGIN:VEVENT
DTSTART;TZID=Pacific/Auckland:20180407T133000
DTEND;TZID=Pacific/Auckland:20180407T150000
DTSTAMP:20260422T190057
CREATED:20170328T042149Z
LAST-MODIFIED:20180220T030308Z
UID:2602-1523107800-1523113200@feildingmoa.co.nz
SUMMARY:Timona Park Scratch race
DESCRIPTION:Distances today range from 1km for our keen Mini Moa’s through to One lap (2.5km) for 7-13 year olds\,  then two laps for colts (14-17)\, juniors (18-19) and women and three laps (7.5km) for men. \nCourse is mostly flat with a few low obstacles. Bring a plate for afternoon tea. Have you paid your annual subs yet? You need to be fully paid up before the start of our Handicap cross country race at Woodruffes on 21st April to qualify for points and trophies. \n
URL:https://feildingmoa.co.nz/event/timona-park-scratch-race/
LOCATION:Timona Park\, Simon St\, Feilding\, 4740\, New Zealand
CATEGORIES:Club Event
ATTACH;FMTTYPE=image/jpeg:https://feildingmoa.co.nz/wp-content/uploads/2017/08/kids-start-wanganui.jpg
ORGANIZER;CN="Rob%20Dabb":MAILTO:feildingmoa@gmail.com
END:VEVENT
END:VCALENDAR