BEGIN:VCALENDAR
VERSION:2.0
PRODID:-//Feilding Moa - ECPv4.9.10//NONSGML v1.0//EN
CALSCALE:GREGORIAN
METHOD:PUBLISH
X-WR-CALNAME:Feilding Moa
X-ORIGINAL-URL:https://feildingmoa.co.nz
X-WR-CALDESC:Events for Feilding Moa
BEGIN:VTIMEZONE
TZID:Pacific/Auckland
BEGIN:STANDARD
TZOFFSETFROM:+1300
TZOFFSETTO:+1200
TZNAME:NZST
DTSTART:20230401T140000
END:STANDARD
BEGIN:DAYLIGHT
TZOFFSETFROM:+1200
TZOFFSETTO:+1300
TZNAME:NZDT
DTSTART:20230923T140000
END:DAYLIGHT
END:VTIMEZONE
BEGIN:VEVENT
DTSTART;TZID=Pacific/Auckland:20230513T133000
DTEND;TZID=Pacific/Auckland:20230513T150000
DTSTAMP:20260422T094014
CREATED:20150514T103635Z
LAST-MODIFIED:20230419T192136Z
UID:2253-1683984600-1683990000@feildingmoa.co.nz
SUMMARY:Timona Park Turkey Trot
DESCRIPTION:The Turkey Trot is something anyone could win. Young; old; slow; fast…it’s a level playing field for today. \nIt’s all about time. How well you can judge your pace for  a given distance – but without the aid of a watch? \nThis year a special trophy will be awarded to honour the memory of  our club member Cindy Duker who passed  away late last year \nFurther rules on the day. This is an event anyone can win – walk\, run\, young\, older. \n  \n
URL:https://feildingmoa.co.nz/event/turkey-trot/
LOCATION:Timona Park\, Simon St\, Feilding\, 4740\, New Zealand
CATEGORIES:Club Event
ORGANIZER;CN="Rob%20Dabb":MAILTO:feildingmoa@gmail.com
END:VEVENT
END:VCALENDAR