BEGIN:VCALENDAR
VERSION:2.0
PRODID:-//Feilding Moa - ECPv4.9.10//NONSGML v1.0//EN
CALSCALE:GREGORIAN
METHOD:PUBLISH
X-WR-CALNAME:Feilding Moa
X-ORIGINAL-URL:https://feildingmoa.co.nz
X-WR-CALDESC:Events for Feilding Moa
BEGIN:VTIMEZONE
TZID:Pacific/Auckland
BEGIN:STANDARD
TZOFFSETFROM:+1300
TZOFFSETTO:+1200
TZNAME:NZST
DTSTART:20240406T140000
END:STANDARD
BEGIN:DAYLIGHT
TZOFFSETFROM:+1200
TZOFFSETTO:+1300
TZNAME:NZDT
DTSTART:20240928T140000
END:DAYLIGHT
END:VTIMEZONE
BEGIN:VEVENT
DTSTART;TZID=Pacific/Auckland:20240511T113000
DTEND;TZID=Pacific/Auckland:20240511T170000
DTSTAMP:20260422T184751
CREATED:20220330T041847Z
LAST-MODIFIED:20240319T195100Z
UID:4757-1715427000-1715446800@feildingmoa.co.nz
SUMMARY:Victoria University Relays - Paekakariki
DESCRIPTION: We hope to send a few teams again this year to  Queen Elizabeth  Park\, Paekakariki. \nACCESS: from SH1 take the Mackays Crossing turnoff to Queen Elizabeth Park. Head about 200 metres along the access road to where you will easily see the setip \nMore event info will be posted here as details become known \n  \n
URL:https://feildingmoa.co.nz/event/victoria-university-relays-paekakariki/
CATEGORIES:Interclub Event
ATTACH;FMTTYPE=image/jpeg:https://feildingmoa.co.nz/wp-content/uploads/2022/03/20220514_161420-scaled.jpg
END:VEVENT
END:VCALENDAR