BEGIN:VCALENDAR
VERSION:2.0
PRODID:-//Feilding Moa - ECPv4.9.10//NONSGML v1.0//EN
CALSCALE:GREGORIAN
METHOD:PUBLISH
X-WR-CALNAME:Feilding Moa
X-ORIGINAL-URL:https://feildingmoa.co.nz
X-WR-CALDESC:Events for Feilding Moa
BEGIN:VTIMEZONE
TZID:Pacific/Auckland
BEGIN:STANDARD
TZOFFSETFROM:+1300
TZOFFSETTO:+1200
TZNAME:NZST
DTSTART:20260404T140000
END:STANDARD
BEGIN:DAYLIGHT
TZOFFSETFROM:+1200
TZOFFSETTO:+1300
TZNAME:NZDT
DTSTART:20260926T140000
END:DAYLIGHT
END:VTIMEZONE
BEGIN:VEVENT
DTSTART;TZID=Pacific/Auckland:20260502T133000
DTEND;TZID=Pacific/Auckland:20260502T150000
DTSTAMP:20260422T053400
CREATED:20150430T231156Z
LAST-MODIFIED:20260401T233125Z
UID:2146-1777728600-1777734000@feildingmoa.co.nz
SUMMARY:73rd Woodruffe Cups Cross Country Race
DESCRIPTION: Woodruffe Cups are one of our longest held races\nThe venue is at 1831a SH3\, just before the Mt Stewart passing lanes \nDistances t.b.c \n1:30pm  Minimoa 1km\, \nBoys and Girls 7-13\, 2.5km\, \nWalkers  5km \nWomen\, Junior women\,  Colts –  U18 men 5km \nMen\, U20 men\, 7.5km \nRace Format: \nThis year is scratch race format \nThe instructions from Mr Woodruffe (Snr) when the cups were first established 72 years ago were to alternate with one year on handicap\, next year on fastest time. Woodruffe Cups for each grade this year will be awarded to the handicap winner in each grade \nWoodruffe History\nOur host farmer is Roger Woodruffe. Roger was just 11 years old when the first Woodruffe Cup took place and first ran for the club when at high school. Roger\,  81\, continues to run most of our races\, as well as being a full-time farmer with three farms to manage. Roger had to wait until 2013 before winning the Woodruffe Cup for the first time. \nHis older brother\, Lawrie\, who passed away earlier this year is a Life Member of the club. He won the Cup a record 8 times: 1960\,61\,62\, 64\, 1973\, 1976\, 1986\, 1994 – so an awesome 34 year span between his first and last win. \nOther multiple winners of the Senior Mens trophy are: \n6 wins S Galloway \n6 wins Nick Johnston \n3 wins Grant Christian\, Rob Dabb\, Andy Martin\, Reg Vautier \n  \n  \n
URL:https://feildingmoa.co.nz/event/woodruffe-cups/
LOCATION:Woodruffes Awahuri\, 1831a State Highway 3\, Awahuri\, 4779\, New Zealand
CATEGORIES:Club Event,Interclub Event
ATTACH;FMTTYPE=image/jpeg:https://feildingmoa.co.nz/wp-content/uploads/2015/05/start.jpg
ORGANIZER;CN="Rob%20Dabb":MAILTO:feildingmoa@gmail.com
END:VEVENT
END:VCALENDAR